BEGIN:VCALENDAR
VERSION:2.0
PRODID:-//Redemption Baptist Church - ECPv6.15.10//NONSGML v1.0//EN
CALSCALE:GREGORIAN
METHOD:PUBLISH
X-WR-CALNAME:Redemption Baptist Church
X-ORIGINAL-URL:https://myredemption.org
X-WR-CALDESC:Events for Redemption Baptist Church
REFRESH-INTERVAL;VALUE=DURATION:PT1H
X-Robots-Tag:noindex
X-PUBLISHED-TTL:PT1H
BEGIN:VTIMEZONE
TZID:UTC
BEGIN:STANDARD
TZOFFSETFROM:+0000
TZOFFSETTO:+0000
TZNAME:UTC
DTSTART:20210101T000000
END:STANDARD
END:VTIMEZONE
BEGIN:VEVENT
DTSTART;TZID=UTC:20250604T190000
DTEND;TZID=UTC:20250613T190000
DTSTAMP:20260423T161849
CREATED:20250223T065211Z
LAST-MODIFIED:20250223T070628Z
UID:3264-1749063600-1749841200@myredemption.org
SUMMARY:RBC VBS 2025
DESCRIPTION:  \n\nMADE TO MAGNIFY GOD!\n  \n\n\n\n\n\n\n\n\n\n\n\n\n\n\n\n\n﻿﻿﻿﻿﻿﻿﻿﻿  \n\n\n\n\n\nMagnified! is the Redemption Baptist Church’s VBS 2025 theme. Where we will be encouraging kids to look closely at the details of God’s amazing world and magnify\, or proclaim\, the greatness of God. God made us\, cares about us\, loves us\, forgives us\, and is faithful to keep all His promises to us. We can praise God together! We were made to magnify God!\n\n\n\n\n\n\n\n\n  TEEN REGISTRATION \nTeen VBS will be June 4th-6th.\n\n\n\n\n KIDS REGISTRATION\nKids VBS will be June 9th-13th.\n\n\n\n  VOLUNTEER REGISTRATION\n\n\n\n\n\n\n\n\n\n\n\n\n\n\n\n\n\n WATCH THE VBS VIDEO\n\n\n\n\n  LOCATION & DIRECTION
URL:https://myredemption.org/event/rbc-vbs-2025/
LOCATION:Redemption Baptist Church\, 3501 NE 3rd Avenue\, Pompano Beach\, FL\, 33064\, United States
CATEGORIES:Children,Event,Upcoming Events,Youth
ATTACH;FMTTYPE=image/jpeg:https://myredemption.org/wp-content/uploads/2025/02/rbc-vbs-2025.jpg
ORGANIZER;CN="Redemption Baptist Church":MAILTO:info@myredemption.org
END:VEVENT
BEGIN:VEVENT
DTSTART;TZID=UTC:20221225T080000
DTEND;TZID=UTC:20221225T170000
DTSTAMP:20260423T161849
CREATED:20221225T042713Z
LAST-MODIFIED:20221225T043417Z
UID:2492-1671955200-1671987600@myredemption.org
SUMMARY:Contemporary Announcements
DESCRIPTION:Contemporary Ministry Announcements:\n1. Relaunch of Children’s Ministry every 2 nd &amp; 4th Fridays starting Friday\, January 13th \, 2023 at 7:30 – 9:00pm.\nThere will be activities for children from Kindergarden to 8 th Grade.\nParents\, please see Pastor Perry\, Br. Dave Elie\, and the team to sign up. \n2. The Nursery will reopen in January 2023\, starting Sunday January 8th \, 2023.  We need volunteers\, please see Sr. Priscille Elie to sign up. \n3. Bible study every Wednesday:\na. All High School Students\nb. All College Students &amp; Young Professionals\n4. We need Volunteers for the Children&#39;s Ministry Sunday\nSchool/Children’s church. Parents are encouraged to volunteer once\nevery quarter. Please see Pastor Perry and Br. Dave Elie.
URL:https://myredemption.org/event/c-m-announcements/
LOCATION:FL
CATEGORIES:Upcoming Events
ATTACH;FMTTYPE=image/webp:https://myredemption.org/wp-content/uploads/2022/12/important-announcement.webp
END:VEVENT
BEGIN:VEVENT
DTSTART;TZID=UTC:20220522T130000
DTEND;TZID=UTC:20251231T023000
DTSTAMP:20260423T161849
CREATED:20220127T130002Z
LAST-MODIFIED:20221013T175444Z
UID:291-1653224400-1767148200@myredemption.org
SUMMARY:Contemporary Service
DESCRIPTION:For those who need God`s help\, we are happy to see you at our group meetings. Find a new purpose in life\, start a new path by taking His Word and transforming it into the light that will lead you through the darkest times. Join our community for more information and become a member to share your experience with others. You may feel weak today\, but God calls you strong.
URL:https://myredemption.org/event/contemporary-service/
LOCATION:Redemption Baptist Church\, 3501 NE 3rd Avenue\, Pompano Beach\, FL\, 33064\, United States
CATEGORIES:Upcoming Events,Worship Service
ATTACH;FMTTYPE=image/jpeg:https://myredemption.org/wp-content/uploads/2022/02/contpr-service.jpg
ORGANIZER;CN="Redemption Baptist Church":MAILTO:info@myredemption.org
END:VEVENT
BEGIN:VEVENT
DTSTART;TZID=UTC:20220522T093000
DTEND;TZID=UTC:20241231T120000
DTSTAMP:20260423T161849
CREATED:20220127T100020Z
LAST-MODIFIED:20221013T175423Z
UID:283-1653211800-1735646400@myredemption.org
SUMMARY:RBC Worship Service
DESCRIPTION:﻿
URL:https://myredemption.org/event/rbc-worship-service/
LOCATION:Redemption Baptist Church\, 3501 NE 3rd Avenue\, Pompano Beach\, FL\, 33064\, United States
CATEGORIES:Upcoming Events,Worship Service
ATTACH;FMTTYPE=image/jpeg:https://myredemption.org/wp-content/uploads/2019/01/redemption-baptist-church-calendar.jpg
ORGANIZER;CN="Redemption Baptist Church":MAILTO:info@myredemption.org
END:VEVENT
END:VCALENDAR